BEGIN:VCALENDAR
VERSION:2.0
CREATED:20260403T000803Z
PRODID:-//MaxLinear\, Inc./Equisolve Calendar v1.0//EN
METHOD:PUBLISH
BEGIN:VEVENT
UID:79bb8e6e727db125e0f2c38f1f4332a7
DTSTAMP:20260424T122133Z
DTSTART:20260520T123000Z
DTEND:20260520T133000Z
SUMMARY:2026 Annual Meeting of Stockholders
DESCRIPTION:2026 Annual Meeting of Stockholders\n\nDate: May 20\, 2026 • 8:30am PDT\n\nCarlsbad\, CA
LOCATION:Carlsbad\, CA
END:VEVENT
END:VCALENDAR
